BEGIN:VCALENDAR
VERSION:2.0
PRODID:-//City of Hattiesburg - ECPv5.0.0//NONSGML v1.0//EN
CALSCALE:GREGORIAN
METHOD:PUBLISH
X-WR-CALNAME:City of Hattiesburg
X-ORIGINAL-URL:https://www.hattiesburgms.com
X-WR-CALDESC:Events for City of Hattiesburg
BEGIN:VTIMEZONE
TZID:America/Chicago
BEGIN:DAYLIGHT
TZOFFSETFROM:-0600
TZOFFSETTO:-0500
TZNAME:CDT
DTSTART:20190310T080000
END:DAYLIGHT
BEGIN:STANDARD
TZOFFSETFROM:-0500
TZOFFSETTO:-0600
TZNAME:CST
DTSTART:20191103T070000
END:STANDARD
END:VTIMEZONE
BEGIN:VEVENT
DTSTART;TZID=America/Chicago:20190420T080000
DTEND;TZID=America/Chicago:20190420T140000
DTSTAMP:20260421T222145
CREATED:20190320T185256Z
LAST-MODIFIED:20190320T185256Z
UID:18937-1555747200-1555768800@www.hattiesburgms.com
SUMMARY:Right Way to Throw Away Day
DESCRIPTION:The City of Hattiesburg is partnering with several governmental and community agencies to host the Right Way to Throw Away Day on Saturday\, April 20\, with two dropoff locations at Bobby L. Chain Municipal Airport (Academy Drive\, Hattiesburg\, MS 39401) and Lamar County Multi-Purpose Center (99 Central Industrial Row\, Purvis\, MS 39475). Between 8 a.m. and 2 p.m.\, residents can properly dispose of household items like cleaners\, transmission fluid\, bleach and old electronics. \nWhy?\nTo prevent these types of chemicals and products from ending up in our soil and water\, this event helps place hazardous household items in the hands of people who know how to properly dispose of them. \nWhat can I bring?\nAerosols\, All-purpose cleaners\, Ammonia\, Anti-freeze\, Appliances\, Automobile Cleaner\, Barbecue Lighter Fluid\, Batteries\, Brake fluid\, Chlorine Bleach\, Detergents\, Disinfectants\, Drain Opener\, Furniture Polish\, Herbicides\, Insecticides\, Mothballs\, Motor Oils\, Oil Filters\, Oven Cleaners\, Paint\, Paint Thinner\, Pesticides\, Photographic Development Chemicals\, Pool Chemicals\, Rodent Poison\, Rubber Cement\, Rug and Upholstery Cleaner\, Silver Polish\, Tires\, Transmission Fluid\, Turpentine\, Varnish\, Water Sealer\, Wood Finish\, Computers\, Laptops\, Keyboards and Monitors\, Washers and Dryers\, Fluorescent bulbs\, TVs\, refrigerators and freezers\, etc. \nWhat can I not bring?\nAmmunition\, Explosives\, Medical Waste\, Syringes\, Radioactive Materials\, PCB’s \n  \n
URL:https://www.hattiesburgms.com/event/right-way-to-throw-away-day/
LOCATION:Bobby L. Chain Airport\, 50 Academy Drive\, Hattiesburg\, MS\, 39401\, United States
CATEGORIES:Community Event
ATTACH;FMTTYPE=image/png:https://www.hattiesburgms.com/wp-content/uploads/web_header-5.png
END:VEVENT
END:VCALENDAR