BEGIN:VCALENDAR
VERSION:2.0
PRODID:-//City of Hattiesburg - ECPv5.0.0//NONSGML v1.0//EN
CALSCALE:GREGORIAN
METHOD:PUBLISH
X-WR-CALNAME:City of Hattiesburg
X-ORIGINAL-URL:https://www.hattiesburgms.com
X-WR-CALDESC:Events for City of Hattiesburg
BEGIN:VTIMEZONE
TZID:America/Chicago
BEGIN:DAYLIGHT
TZOFFSETFROM:-0600
TZOFFSETTO:-0500
TZNAME:CDT
DTSTART:20200308T080000
END:DAYLIGHT
BEGIN:STANDARD
TZOFFSETFROM:-0500
TZOFFSETTO:-0600
TZNAME:CST
DTSTART:20201101T070000
END:STANDARD
END:VTIMEZONE
BEGIN:VEVENT
DTSTART;TZID=America/Chicago:20200310T150000
DTEND;TZID=America/Chicago:20200310T173000
DTSTAMP:20260423T005727
CREATED:20200226T221829Z
LAST-MODIFIED:20200226T221829Z
UID:21154-1583852400-1583861400@www.hattiesburgms.com
SUMMARY:Que Delta Week: Vernon Dahmer Park Cleanup
DESCRIPTION:This event is in honor of Mr. Vernon Dahmer. Que Deltas will be cleaning up the park in remembrance of his bravery and leadership on his birthday! Come out! It’ll be a great time and service! \n
URL:https://www.hattiesburgms.com/event/que-delta-week-vernon-dahmer-park-cleanup/
LOCATION:Hattiesburg\, MS\, United States
ATTACH;FMTTYPE=image/jpeg:https://www.hattiesburgms.com/wp-content/uploads/59F571E9-0617-4B36-9986-38F809D358CA.jpeg
END:VEVENT
END:VCALENDAR