BEGIN:VCALENDAR
VERSION:2.0
PRODID:-//City of Hattiesburg - ECPv5.0.0//NONSGML v1.0//EN
CALSCALE:GREGORIAN
METHOD:PUBLISH
X-WR-CALNAME:City of Hattiesburg
X-ORIGINAL-URL:https://www.hattiesburgms.com
X-WR-CALDESC:Events for City of Hattiesburg
BEGIN:VTIMEZONE
TZID:America/Chicago
BEGIN:DAYLIGHT
TZOFFSETFROM:-0600
TZOFFSETTO:-0500
TZNAME:CDT
DTSTART:20250309T080000
END:DAYLIGHT
BEGIN:STANDARD
TZOFFSETFROM:-0500
TZOFFSETTO:-0600
TZNAME:CST
DTSTART:20251102T070000
END:STANDARD
END:VTIMEZONE
BEGIN:VEVENT
DTSTART;VALUE=DATE:20250906
DTEND;VALUE=DATE:20250907
DTSTAMP:20260421T082639
CREATED:20250923T151625Z
LAST-MODIFIED:20250923T151625Z
UID:34365-1757116800-1757203199@www.hattiesburgms.com
SUMMARY:Pride of Mississippi Halftime Show: Rocking the Rock
DESCRIPTION:USM vs. Appalachian State University \nStay in your seats for the Pride of Mississippi’s halftime performance! We feature music by Queen\, Led Zeppelin\, and Bon Jovi! The 2025 All-South Marching Band will join the Pride of Mississippi to conclude its halftime performance. \n  \n \n
URL:https://www.hattiesburgms.com/event/pride-of-mississippi-halftime-show-rocking-the-rock/
LOCATION:M. M. Roberts Stadium\, 118 College Dr.\, Hattiesburg\, MS\, 39406\, United States
ATTACH;FMTTYPE=image/jpeg:https://www.hattiesburgms.com/wp-content/uploads/3-4.jpg
END:VEVENT
END:VCALENDAR