BEGIN:VCALENDAR
VERSION:2.0
PRODID:-//City of Hattiesburg - ECPv5.0.0//NONSGML v1.0//EN
CALSCALE:GREGORIAN
METHOD:PUBLISH
X-WR-CALNAME:City of Hattiesburg
X-ORIGINAL-URL:https://www.hattiesburgms.com
X-WR-CALDESC:Events for City of Hattiesburg
BEGIN:VTIMEZONE
TZID:America/Chicago
BEGIN:DAYLIGHT
TZOFFSETFROM:-0600
TZOFFSETTO:-0500
TZNAME:CDT
DTSTART:20230312T080000
END:DAYLIGHT
BEGIN:STANDARD
TZOFFSETFROM:-0500
TZOFFSETTO:-0600
TZNAME:CST
DTSTART:20231105T070000
END:STANDARD
END:VTIMEZONE
BEGIN:VEVENT
DTSTART;TZID=America/Chicago:20230427T190000
DTEND;TZID=America/Chicago:20230427T200000
DTSTAMP:20260425T025057
CREATED:20220916T145725Z
LAST-MODIFIED:20220916T145725Z
UID:27893-1682622000-1682625600@www.hattiesburgms.com
SUMMARY:Pops Concert
DESCRIPTION:This concert will feature instrumental performances\, and all of the directors are faculty of the William Carey University Winters School of Music.  Admission is free to the public. \n
URL:https://www.hattiesburgms.com/event/pops-concert/
LOCATION:Thomas Fine Arts Auditorium Stage at William Carey University\, 710 William Carey Pkwy\, Hattiesburg\, MS\, 39401\, United States
ATTACH;FMTTYPE=image/jpeg:https://www.hattiesburgms.com/wp-content/uploads/Choir-concert-1.jpg
END:VEVENT
END:VCALENDAR