BEGIN:VCALENDAR
VERSION:2.0
PRODID:-//City of Hattiesburg - ECPv5.0.0//NONSGML v1.0//EN
CALSCALE:GREGORIAN
METHOD:PUBLISH
X-WR-CALNAME:City of Hattiesburg
X-ORIGINAL-URL:https://www.hattiesburgms.com
X-WR-CALDESC:Events for City of Hattiesburg
BEGIN:VTIMEZONE
TZID:America/Chicago
BEGIN:DAYLIGHT
TZOFFSETFROM:-0600
TZOFFSETTO:-0500
TZNAME:CDT
DTSTART:20210314T080000
END:DAYLIGHT
BEGIN:STANDARD
TZOFFSETFROM:-0500
TZOFFSETTO:-0600
TZNAME:CST
DTSTART:20211107T070000
END:STANDARD
END:VTIMEZONE
BEGIN:VEVENT
DTSTART;TZID=America/Chicago:20210411T140000
DTEND;TZID=America/Chicago:20210411T170000
DTSTAMP:20260421T174710
CREATED:20210227T222311Z
LAST-MODIFIED:20210303T211533Z
UID:23364-1618149600-1618160400@www.hattiesburgms.com
SUMMARY:Percussion Ensemble Concert
DESCRIPTION:The Spring concert of university percussion groups. To view the event please visit youtube.com/usmmusic1 and for more information visit usm.edu/music or our Facebook\, instagram\, Twitter\, and YouTube pages. \n
URL:https://www.hattiesburgms.com/event/percussion-ensemble-concert/
ATTACH;FMTTYPE=image/jpeg:https://www.hattiesburgms.com/wp-content/uploads/6oHj6FZQ.jpeg
END:VEVENT
END:VCALENDAR