BEGIN:VCALENDAR
VERSION:2.0
PRODID:-//City of Hattiesburg - ECPv5.0.0//NONSGML v1.0//EN
CALSCALE:GREGORIAN
METHOD:PUBLISH
X-WR-CALNAME:City of Hattiesburg
X-ORIGINAL-URL:https://www.hattiesburgms.com
X-WR-CALDESC:Events for City of Hattiesburg
BEGIN:VTIMEZONE
TZID:America/Chicago
BEGIN:DAYLIGHT
TZOFFSETFROM:-0600
TZOFFSETTO:-0500
TZNAME:CDT
DTSTART:20190310T080000
END:DAYLIGHT
BEGIN:STANDARD
TZOFFSETFROM:-0500
TZOFFSETTO:-0600
TZNAME:CST
DTSTART:20191103T070000
END:STANDARD
END:VTIMEZONE
BEGIN:VEVENT
DTSTART;TZID=America/Chicago:20190418T180000
DTEND;TZID=America/Chicago:20190418T220000
DTSTAMP:20260421T234154
CREATED:20190411T211508Z
LAST-MODIFIED:20190411T211508Z
UID:19078-1555610400-1555624800@www.hattiesburgms.com
SUMMARY:Pack the Pete in Pink
DESCRIPTION:The Southern Miss baseball team will hold its eighth annual Pack The Pete in Pink Weekend\, in conjunction with the Pink Ribbon Fund of the Pine Belt\, when the Golden Eagles open its home series against Charlotte 49ers beginning Thursday night at Pete Taylor Park/Hill Denson Field. \nGame times for the weekend against the 49ers are 6 p.m.\, Thursday\, April 18th; 4 p.m.\, Friday\, April 19th and 10 a.m.\, Saturday\, April 20th. \nDuring the weekend\, raffle tickets and Pack the Pete in Pink t-shirts will be on sale at The Pete for $15 each. A portion of all sales will go directly to The Pink Ribbon Fund. In addition\, breast cancer survivor Julie Towe will be throwing out the first pitch on Thursday night to begin the series. \nMembers of the Pink Ribbon Fund will be on hand all weekend long with information about their organization and to help raise awareness about breast cancer and the effect that it has on everyone. \nThe Pink Ribbon Fund was founded in 2003 by two Hattiesburg women\, with its purpose to compassionately assist Pine Belt breast cancer patients with financial support for their diagnosis and treatment\, as well as the quality of life issues resulting from their illness. To date\, The Pink Ribbon Fund has given away over $1 million in grants in the 17-county area. For more information on The Pink Ribbon Fund\, go to ThePinkRibbonFund.com. \n
URL:https://www.hattiesburgms.com/event/pack-the-pete-in-pink/2019-04-18/
LOCATION:Pete Taylor Park\, 3321 W. 4th Street\, Hattiesburg\, MS\, 39401\, United States
CATEGORIES:Campus Event at Southern Miss,Nonprofit Fundraiser
ATTACH;FMTTYPE=image/jpeg:https://www.hattiesburgms.com/wp-content/uploads/D2EBB51C-D44B-4073-A6AF-84DA7A62946B.jpeg
ORGANIZER;CN="The%20Pink%20Ribbon%20Fund":MAILTO:kayeray3@aol.com
END:VEVENT
END:VCALENDAR