BEGIN:VCALENDAR
VERSION:2.0
PRODID:-//City of Hattiesburg - ECPv5.0.0//NONSGML v1.0//EN
CALSCALE:GREGORIAN
METHOD:PUBLISH
X-WR-CALNAME:City of Hattiesburg
X-ORIGINAL-URL:https://www.hattiesburgms.com
X-WR-CALDESC:Events for City of Hattiesburg
BEGIN:VTIMEZONE
TZID:America/Chicago
BEGIN:DAYLIGHT
TZOFFSETFROM:-0600
TZOFFSETTO:-0500
TZNAME:CDT
DTSTART:20240310T080000
END:DAYLIGHT
BEGIN:STANDARD
TZOFFSETFROM:-0500
TZOFFSETTO:-0600
TZNAME:CST
DTSTART:20241103T070000
END:STANDARD
END:VTIMEZONE
BEGIN:VEVENT
DTSTART;TZID=America/Chicago:20240224T130000
DTEND;TZID=America/Chicago:20240224T143000
DTSTAMP:20260421T172023
CREATED:20240202T221653Z
LAST-MODIFIED:20240202T221653Z
UID:30584-1708779600-1708785000@www.hattiesburgms.com
SUMMARY:Majazztic Rhythms and Melodies: Exploring African American Contributions to Jazz and Afrofuturism
DESCRIPTION:Majazztic Rhythms and Melodies: Exploring African American Contributions to Jazz and Afrofuturism Attendees will embark on a transformative journey through the cultural and musical heritage of African Americans in the context of jazz and Afrofuturism through engaging storytelling\, visuals\, and live music performances by Hunter Miles Davis\, musician and interpretive ranger and operational leadership facilitator and Jade Perdue vocalist and multi-instrumentalist and ranger with the New Orleans Jazz National Historical Park. \n
URL:https://www.hattiesburgms.com/event/majazztic-rhythms-and-melodies-exploring-african-american-contributions-to-jazz-and-afrofuturism/
LOCATION:African American Military History Museum\, 305 E 6th St\, Hattiesburg\, MS\, 39401\, United States
CATEGORIES:Black History Month
ATTACH;FMTTYPE=image/jpeg:https://www.hattiesburgms.com/wp-content/uploads/AA2.jpeg
END:VEVENT
END:VCALENDAR