BEGIN:VCALENDAR
VERSION:2.0
PRODID:-//City of Hattiesburg - ECPv5.0.0//NONSGML v1.0//EN
CALSCALE:GREGORIAN
METHOD:PUBLISH
X-WR-CALNAME:City of Hattiesburg
X-ORIGINAL-URL:https://www.hattiesburgms.com
X-WR-CALDESC:Events for City of Hattiesburg
BEGIN:VTIMEZONE
TZID:America/Chicago
BEGIN:DAYLIGHT
TZOFFSETFROM:-0600
TZOFFSETTO:-0500
TZNAME:CDT
DTSTART:20250309T080000
END:DAYLIGHT
BEGIN:STANDARD
TZOFFSETFROM:-0500
TZOFFSETTO:-0600
TZNAME:CST
DTSTART:20251102T070000
END:STANDARD
END:VTIMEZONE
BEGIN:VEVENT
DTSTART;TZID=America/Chicago:20250419T140000
DTEND;TZID=America/Chicago:20250419T190000
DTSTAMP:20260424T194002
CREATED:20250311T214402Z
LAST-MODIFIED:20250311T214402Z
UID:33233-1745071200-1745089200@www.hattiesburgms.com
SUMMARY:Live Amateur Box Night Pt 3 - The Finale
DESCRIPTION:THE TRILOGY is HERE & it’s the FINAL BELL \nJB BOXING & FITNESS PRESENTS: LIVE AMATEUR BOX NIGHT PT. 3 “THE FINALE” \nPart 1 & 2 gave you action\, thrills\, & moments that brought you to the edge of your seat.! You wouldn’t want to miss any part of the final encore unleashing a strong triple header: \n-JADEN “EL PANTERA” SANTOS \n-TARIO “MR. JDC” MAGEE \n-REMI “THE SCIENCE” HOPKINS \nGet your tickets now: \nText “Tickets” to 601-462-4099 \nPre-sale General Admission: $20 \nVIP Tables: $200 ($300 with food) \nWe’re closing this chapter on April 19\, 2025! Be there! \n
URL:https://www.hattiesburgms.com/event/live-amateur-box-night-pt-3-the-finale/
LOCATION:Hattiesburg Boxing Club\, 202 Unetta St\, Hattiesburg\, MS\, 39401\, United States
END:VEVENT
END:VCALENDAR