BEGIN:VCALENDAR
VERSION:2.0
PRODID:-//City of Hattiesburg - ECPv5.0.0//NONSGML v1.0//EN
CALSCALE:GREGORIAN
METHOD:PUBLISH
X-WR-CALNAME:City of Hattiesburg
X-ORIGINAL-URL:https://www.hattiesburgms.com
X-WR-CALDESC:Events for City of Hattiesburg
BEGIN:VTIMEZONE
TZID:America/Chicago
BEGIN:DAYLIGHT
TZOFFSETFROM:-0600
TZOFFSETTO:-0500
TZNAME:CDT
DTSTART:20210314T080000
END:DAYLIGHT
BEGIN:STANDARD
TZOFFSETFROM:-0500
TZOFFSETTO:-0600
TZNAME:CST
DTSTART:20211107T070000
END:STANDARD
END:VTIMEZONE
BEGIN:VEVENT
DTSTART;TZID=America/Chicago:20210330T200000
DTEND;TZID=America/Chicago:20210330T230000
DTSTAMP:20260421T112919
CREATED:20210224T005832Z
LAST-MODIFIED:20210303T211720Z
UID:23309-1617134400-1617145200@www.hattiesburgms.com
SUMMARY:Jazz Labs in Concert 
DESCRIPTION:The Southern Miss Jazz Labs will present their first Spring performance open to the general public. In the era of COVID-19 and Social Distancing we have embarked on a new experiment – the Little Big Band. The downsized big band has actually been around for quite some time\, including the great Miles Davis Nonet that recorded the classic Birth of the Cool album\, the Dave Pell Octet\, works by Oliver Nelson and other notable groups. The great Canadian arranger Rob McConnell who made waves with his Boss Brass Big Band in the 1980’s did his own little big band with the Rob McConnell Tentet. The little big band format allows for a delightful mix of arrangements and combo style soloing and we are having a great time exploring the music. \n
URL:https://www.hattiesburgms.com/event/jazz-labs-in-concert/
ATTACH;FMTTYPE=image/jpeg:https://www.hattiesburgms.com/wp-content/uploads/oAkdGeJA.jpeg
END:VEVENT
END:VCALENDAR