BEGIN:VCALENDAR
VERSION:2.0
PRODID:-//City of Hattiesburg - ECPv5.0.0//NONSGML v1.0//EN
CALSCALE:GREGORIAN
METHOD:PUBLISH
X-WR-CALNAME:City of Hattiesburg
X-ORIGINAL-URL:https://www.hattiesburgms.com
X-WR-CALDESC:Events for City of Hattiesburg
BEGIN:VTIMEZONE
TZID:America/Chicago
BEGIN:DAYLIGHT
TZOFFSETFROM:-0600
TZOFFSETTO:-0500
TZNAME:CDT
DTSTART:20210314T080000
END:DAYLIGHT
BEGIN:STANDARD
TZOFFSETFROM:-0500
TZOFFSETTO:-0600
TZNAME:CST
DTSTART:20211107T070000
END:STANDARD
END:VTIMEZONE
BEGIN:VEVENT
DTSTART;TZID=America/Chicago:20210615T090000
DTEND;TZID=America/Chicago:20210615T130000
DTSTAMP:20260420T065431
CREATED:20210529T164315Z
LAST-MODIFIED:20210529T164849Z
UID:23975-1623747600-1623762000@www.hattiesburgms.com
SUMMARY:Homeowner Rehabilitation Program Pre-Screening Applications
DESCRIPTION:The Community Development Division will accept pre-screening applications for its Homeowner Rehabilitation Program on Tuesday\, June 15 at Jackie Dole Sherril Community Center’s Dining Room\, between 9 a.m. and 1 p.m. For additional details and the pre-screening application\, please see the links below: \nFLIER | PRE-SCREENING APPLICATION \n
URL:https://www.hattiesburgms.com/event/homeowner-rehabilitation-program-pre-screening-applications/
LOCATION:Jackie Dole Sherrill Community Center\, 220 West Front Street\, Hattiesburg\, MS\, 39401\, United States
ATTACH;FMTTYPE=image/png:https://www.hattiesburgms.com/wp-content/uploads/Screen-Shot-2021-05-28-at-10.54.17-AM.png
END:VEVENT
END:VCALENDAR