BEGIN:VCALENDAR
VERSION:2.0
PRODID:-//City of Hattiesburg - ECPv5.0.0//NONSGML v1.0//EN
CALSCALE:GREGORIAN
METHOD:PUBLISH
X-WR-CALNAME:City of Hattiesburg
X-ORIGINAL-URL:https://www.hattiesburgms.com
X-WR-CALDESC:Events for City of Hattiesburg
BEGIN:VTIMEZONE
TZID:America/Chicago
BEGIN:DAYLIGHT
TZOFFSETFROM:-0600
TZOFFSETTO:-0500
TZNAME:CDT
DTSTART:20220313T080000
END:DAYLIGHT
BEGIN:STANDARD
TZOFFSETFROM:-0500
TZOFFSETTO:-0600
TZNAME:CST
DTSTART:20221106T070000
END:STANDARD
END:VTIMEZONE
BEGIN:VEVENT
DTSTART;TZID=America/Chicago:20220423T160000
DTEND;TZID=America/Chicago:20220423T160000
DTSTAMP:20260421T221511
CREATED:20211025T165157Z
LAST-MODIFIED:20211025T165157Z
UID:24872-1650729600-1650729600@www.hattiesburgms.com
SUMMARY:HAC "Vintage Tea Dance; Swing into Spring”
DESCRIPTION:“Vintage Tea Dance; Swing into Spring” \nHattiesburg Cultural Center \nDoors open at 3:00pm for an optional dance lesson \nCreative vintage attire is encouraged \n($25 tickets include live music\, a dance lesson\, and refreshments) \n
URL:https://www.hattiesburgms.com/event/hac-vintage-tea-dance-swing-into-spring/
LOCATION:Hattiesburg Cultural Center\, 723 Main St\, Hattiesburg\, MS\, 39401\, United States
ATTACH;FMTTYPE=image/jpeg:https://www.hattiesburgms.com/wp-content/uploads/001c-HAC.Logo_.2014.small_.COLOR_.file_-9.jpg
ORGANIZER;CN="Hattiesburg%20Arts%20Council":MAILTO:hattiesburgartscouncil@gmail.com
END:VEVENT
END:VCALENDAR