BEGIN:VCALENDAR
VERSION:2.0
PRODID:-//City of Hattiesburg - ECPv5.0.0//NONSGML v1.0//EN
CALSCALE:GREGORIAN
METHOD:PUBLISH
X-WR-CALNAME:City of Hattiesburg
X-ORIGINAL-URL:https://www.hattiesburgms.com
X-WR-CALDESC:Events for City of Hattiesburg
BEGIN:VTIMEZONE
TZID:America/Chicago
BEGIN:DAYLIGHT
TZOFFSETFROM:-0600
TZOFFSETTO:-0500
TZNAME:CDT
DTSTART:20190310T080000
END:DAYLIGHT
BEGIN:STANDARD
TZOFFSETFROM:-0500
TZOFFSETTO:-0600
TZNAME:CST
DTSTART:20191103T070000
END:STANDARD
END:VTIMEZONE
BEGIN:VEVENT
DTSTART;TZID=America/Chicago:20191001T183000
DTEND;TZID=America/Chicago:20191001T183000
DTSTAMP:20260421T082401
CREATED:20191001T182108Z
LAST-MODIFIED:20191001T182108Z
UID:20167-1569954600-1569954600@www.hattiesburgms.com
SUMMARY:Free West Coast Swing Lesson
DESCRIPTION:Come out and learn some West Coast Swing steps to the music of Midnight Revel in preparation for their Live @ 5 set on Friday Oct. 4 in Town Square Park. \nNo experience or partner necessary! \nHelp us fill up the dance floor on Friday …yes you heard that right A DANCE FLOOR. 💃🕺🏻 \n
URL:https://www.hattiesburgms.com/event/free-west-coast-swing-lesson/
LOCATION:Hattiesburg Ballroom & Beyond\, 208 W Pine Street\, Hattiesburg\, MS\, 39401\, United States
CATEGORIES:Arts,Community Event
ATTACH;FMTTYPE=image/jpeg:https://www.hattiesburgms.com/wp-content/uploads/free_west_coast_dance.jpg
END:VEVENT
END:VCALENDAR