BEGIN:VCALENDAR
VERSION:2.0
PRODID:-//City of Hattiesburg - ECPv5.0.0//NONSGML v1.0//EN
CALSCALE:GREGORIAN
METHOD:PUBLISH
X-WR-CALNAME:City of Hattiesburg
X-ORIGINAL-URL:https://www.hattiesburgms.com
X-WR-CALDESC:Events for City of Hattiesburg
BEGIN:VTIMEZONE
TZID:America/Chicago
BEGIN:DAYLIGHT
TZOFFSETFROM:-0600
TZOFFSETTO:-0500
TZNAME:CDT
DTSTART:20210314T080000
END:DAYLIGHT
BEGIN:STANDARD
TZOFFSETFROM:-0500
TZOFFSETTO:-0600
TZNAME:CST
DTSTART:20211107T070000
END:STANDARD
END:VTIMEZONE
BEGIN:VEVENT
DTSTART;TZID=America/Chicago:20210608T150000
DTEND;TZID=America/Chicago:20210608T170000
DTSTAMP:20260422T051330
CREATED:20210507T162514Z
LAST-MODIFIED:20210529T164743Z
UID:23824-1623164400-1623171600@www.hattiesburgms.com
SUMMARY:Firsts : featuring the Lagniappe Trio
DESCRIPTION:The Lagniappe Trio returns to the stage for its first live concert since the pandemic began\, performing a program of “firsts.” With support from the Mississippi Arts Commission\, audiences will have the opportunity to experience world premiere performances of two works\, including one by their very own member\, Christopher Lowry.  They will also perform the first work ever written for the flute\, viola\, and harp ensemble. This exciting and innovative program is perfect to get live audiences back in the performance halls. \n
URL:https://www.hattiesburgms.com/event/firsts-featuring-the-lagniappe-trio/
LOCATION:Heritage United Methodist Church\, 3 Baracuda Dr\, HATTIESBURG\, MS\, 39402\, United States
CATEGORIES:Concert
ORGANIZER;CN="Festival%20South":MAILTO:mike.lopinto@usm.edu
END:VEVENT
END:VCALENDAR