BEGIN:VCALENDAR
VERSION:2.0
PRODID:-//City of Hattiesburg - ECPv5.0.0//NONSGML v1.0//EN
CALSCALE:GREGORIAN
METHOD:PUBLISH
X-WR-CALNAME:City of Hattiesburg
X-ORIGINAL-URL:https://www.hattiesburgms.com
X-WR-CALDESC:Events for City of Hattiesburg
BEGIN:VTIMEZONE
TZID:America/Chicago
BEGIN:DAYLIGHT
TZOFFSETFROM:-0600
TZOFFSETTO:-0500
TZNAME:CDT
DTSTART:20210314T080000
END:DAYLIGHT
BEGIN:STANDARD
TZOFFSETFROM:-0500
TZOFFSETTO:-0600
TZNAME:CST
DTSTART:20211107T070000
END:STANDARD
END:VTIMEZONE
BEGIN:VEVENT
DTSTART;VALUE=DATE:20210528
DTEND;VALUE=DATE:20210627
DTSTAMP:20260422T015536
CREATED:20210325T203939Z
LAST-MODIFIED:20210529T164647Z
UID:23653-1622160000-1624751999@www.hattiesburgms.com
SUMMARY:FestivalSouth
DESCRIPTION:Mississippi’s only multi-genre\, multi-week festival presents arts\, entertainment and educational opportunities across the South. Visit festivalsouth.org for more information. \n
URL:https://www.hattiesburgms.com/event/festivalsouth/
ATTACH;FMTTYPE=image/jpeg:https://www.hattiesburgms.com/wp-content/uploads/DjjFKIMQ.jpeg
END:VEVENT
END:VCALENDAR