BEGIN:VCALENDAR
VERSION:2.0
PRODID:-//City of Hattiesburg - ECPv5.0.0//NONSGML v1.0//EN
CALSCALE:GREGORIAN
METHOD:PUBLISH
X-WR-CALNAME:City of Hattiesburg
X-ORIGINAL-URL:https://www.hattiesburgms.com
X-WR-CALDESC:Events for City of Hattiesburg
BEGIN:VTIMEZONE
TZID:America/Chicago
BEGIN:DAYLIGHT
TZOFFSETFROM:-0600
TZOFFSETTO:-0500
TZNAME:CDT
DTSTART:20240310T080000
END:DAYLIGHT
BEGIN:STANDARD
TZOFFSETFROM:-0500
TZOFFSETTO:-0600
TZNAME:CST
DTSTART:20241103T070000
END:STANDARD
END:VTIMEZONE
BEGIN:VEVENT
DTSTART;TZID=America/Chicago:20240620T193000
DTEND;TZID=America/Chicago:20240620T193000
DTSTAMP:20260421T111310
CREATED:20240605T194822Z
LAST-MODIFIED:20240605T194822Z
UID:31234-1718911800-1718911800@www.hattiesburgms.com
SUMMARY:FESTIVALMUSIC – Forrest County presents Masterful Tapestries – the Art of the Piano Quintet featuring Theresa Sanchez\, piano\, Borislava Ilcheva and Alexander Ilchev\, violins\, Christopher Lowery\, viola\, and Alexander Russakovsky\, cello in partnership with Coca-Cola\, Payne Company\, VERB Architecture
DESCRIPTION:Join FestivalFavorite Theresa Sanchez for an incredible evening of artistry. Immerse yourself in the music of the masterful Schumann and Brahms. Schumann’s Piano Quintet was the first great chamber-music work that paired the piano with a string quartet and shows the obvious roller-coaster of emotions he was experiencing at the time. Brahms modeled his work on Schumann’s and it is generally considered to be Brahms’s great chamber music epic completed when he was only thirty-one. This is sure to be one of the highlights of the classical music season in Hattiesburg. \n
URL:https://www.hattiesburgms.com/event/festivalmusic-forrest-county-presents-masterful-tapestries-the-art-of-the-piano-quintet-featuring-theresa-sanchez-piano-borislava-ilcheva-and-alexander-ilchev-violins-christoph/
LOCATION:First Presbyterian Church\, 4901 Hardy St.\, HATTIESBURG\, MS\, 39402\, United States
CATEGORIES:Arts,Concert,Festival
ATTACH;FMTTYPE=image/jpeg:https://www.hattiesburgms.com/wp-content/uploads/MASTERFUL-TAPESTRIES.jpg
ORGANIZER;CN="Festival%20South":MAILTO:mike.lopinto@usm.edu
END:VEVENT
END:VCALENDAR