BEGIN:VCALENDAR
VERSION:2.0
PRODID:-//City of Hattiesburg - ECPv5.0.0//NONSGML v1.0//EN
CALSCALE:GREGORIAN
METHOD:PUBLISH
X-WR-CALNAME:City of Hattiesburg
X-ORIGINAL-URL:https://www.hattiesburgms.com
X-WR-CALDESC:Events for City of Hattiesburg
BEGIN:VTIMEZONE
TZID:America/Chicago
BEGIN:DAYLIGHT
TZOFFSETFROM:-0600
TZOFFSETTO:-0500
TZNAME:CDT
DTSTART:20240310T080000
END:DAYLIGHT
BEGIN:STANDARD
TZOFFSETFROM:-0500
TZOFFSETTO:-0600
TZNAME:CST
DTSTART:20241103T070000
END:STANDARD
END:VTIMEZONE
BEGIN:VEVENT
DTSTART;TZID=America/Chicago:20240601T080000
DTEND;TZID=America/Chicago:20240601T120000
DTSTAMP:20260421T124635
CREATED:20240605T194637Z
LAST-MODIFIED:20240605T194637Z
UID:31098-1717228800-1717243200@www.hattiesburgms.com
SUMMARY:Exhibition Showings
DESCRIPTION:An artist with a passion for all things Southern\, his work evokes the heart of Southern folklore and traditions. A New York Times bestselling illustrator\, Trest’s work can be found in the illustrations of children’s books\, hanging in the homes of his collectors worldwide\, and in multiple home decor lines available nationwide. Regardless of the application\, Trest’s work focuses on telling the story of life in the South. \n
URL:https://www.hattiesburgms.com/event/exhibition-showings/
LOCATION:University Baptist Church\, 3200 W Arlington Loop\, Hattiesburg\, MS\, 39401\, United States
CATEGORIES:Arts,Community Event,Festival
ATTACH;FMTTYPE=image/jpeg:https://www.hattiesburgms.com/wp-content/uploads/THE-ART-OF-STORYTELLING-1.jpg
ORGANIZER;CN="Festival%20South":MAILTO:mike.lopinto@usm.edu
END:VEVENT
END:VCALENDAR