BEGIN:VCALENDAR
VERSION:2.0
PRODID:-//City of Hattiesburg - ECPv5.0.0//NONSGML v1.0//EN
CALSCALE:GREGORIAN
METHOD:PUBLISH
X-WR-CALNAME:City of Hattiesburg
X-ORIGINAL-URL:https://www.hattiesburgms.com
X-WR-CALDESC:Events for City of Hattiesburg
BEGIN:VTIMEZONE
TZID:America/Chicago
BEGIN:DAYLIGHT
TZOFFSETFROM:-0600
TZOFFSETTO:-0500
TZNAME:CDT
DTSTART:20230312T080000
END:DAYLIGHT
BEGIN:STANDARD
TZOFFSETFROM:-0500
TZOFFSETTO:-0600
TZNAME:CST
DTSTART:20231105T070000
END:STANDARD
END:VTIMEZONE
BEGIN:VEVENT
DTSTART;TZID=America/Chicago:20230222T193000
DTEND;TZID=America/Chicago:20230222T193000
DTSTAMP:20260423T211747
CREATED:20230303T212423Z
LAST-MODIFIED:20230303T212423Z
UID:28652-1677094200-1677094200@www.hattiesburgms.com
SUMMARY:Encompass: All the Colors
DESCRIPTION:Encompass: All the Colors is a musical performance that will celebrate and promote the appreciation of chamber music by incorporating modern concepts of Diversity\, Equity\, and Inclusion into the core message of the program. This will be achieved through progressive concepts of performance presentation\, community collaborations\, and unique programming\, including the world premiere of a newly commissioned work\, that will redefine the classical music experience for audiences. Envisioned by project creators Rachel Taratoot Ciraldo and Kristina Finch\, this event will be a launching point for a new non-profit\, Encompass\, a female led collective of musicians\, creators\, and composers with the mission to create accessible\, meaningful\, community lead productions that invite audiences to expand their perceptions of classical music and its role in modern society. \n
URL:https://www.hattiesburgms.com/event/encompass-all-the-colors/
LOCATION:Marsh Auditorium at Southern Miss.\, 107 Southern Drive\, HATTIESBURG\, MS\, 39406\, United States
CATEGORIES:Arts,Campus Event at Southern Miss,Concert,Events
ATTACH;FMTTYPE=image/jpeg:https://www.hattiesburgms.com/wp-content/uploads/SOM-BIG-2021-223-11.jpg
ORGANIZER;CN="School%20of%20Music":MAILTO:mike.lopinto@usm.edu
END:VEVENT
END:VCALENDAR