BEGIN:VCALENDAR
VERSION:2.0
PRODID:-//City of Hattiesburg - ECPv5.0.0//NONSGML v1.0//EN
CALSCALE:GREGORIAN
METHOD:PUBLISH
X-WR-CALNAME:City of Hattiesburg
X-ORIGINAL-URL:https://www.hattiesburgms.com
X-WR-CALDESC:Events for City of Hattiesburg
BEGIN:VTIMEZONE
TZID:America/Chicago
BEGIN:DAYLIGHT
TZOFFSETFROM:-0600
TZOFFSETTO:-0500
TZNAME:CDT
DTSTART:20240310T080000
END:DAYLIGHT
BEGIN:STANDARD
TZOFFSETFROM:-0500
TZOFFSETTO:-0600
TZNAME:CST
DTSTART:20241103T070000
END:STANDARD
END:VTIMEZONE
BEGIN:VEVENT
DTSTART;TZID=America/Chicago:20240321T083000
DTEND;TZID=America/Chicago:20240321T083000
DTSTAMP:20260426T042205
CREATED:20240403T200232Z
LAST-MODIFIED:20240403T200232Z
UID:30865-1711009800-1711009800@www.hattiesburgms.com
SUMMARY:Dr. Khadija Al Amira
DESCRIPTION:With this message and on behalf of the Organizing Committee\, I invite you to attend and actively participate in this important international gathering. 12 World Digital Pathology & AI UCGCongress \nThe purpose of the UCGConference is to encourage the national and international exchange of ideas between academic\, corporate\, industrial and government researchers. In addition to sharing knowledge\, this conference provides a chance for professional networking\, particularly for recent graduates\, postdoctoral researchers\, and individuals in the early stages of their careers. \nSince the previous year’s conference was a great success\, people from all over the world are expected to attend this year’s event. The esteemed speakers come from both the world’s most prestigious academic institutions and the most successful Diagnostics companies. This conference will offer the chance to discuss difficult problems in the Digital Pathology domains\, including Digital Pathology\, Artificial Intelligence in Digital Pathology\, Machine Learning and AI\, Computational Pathology\, and others\, as well as the practical aspects of the subject. The conference this year will take place in Duba\, UAE\, a city with significant historical significance UAE and the world. \nThere will be well-known\, renowned speakers from around the world who will share\, debate\, and analyze important new discoveries and scientific advancements that will affect clinical trials and related fields in the future. \nWhy Dubai\, UAE.  \nThe United Arab Emirates’ Dubai is a city and emirate that is well-known for its upscale shopping malls\, avant-garde architecture\, and vibrant nightlife. The skyline dotted with skyscrapers is dominated by the 830-meter-tall Burj Khalifa tower. At its base is the Dubai Fountain\, with its lights and jets that sync to music. Since the turn of the 20th century \n
URL:https://www.hattiesburgms.com/event/dr-khadija-al-amira/
LOCATION:Dubai\, Dubai\, Dubai\, 00000
CATEGORIES:Awareness,Community Event
ATTACH;FMTTYPE=image/png:https://www.hattiesburgms.com/wp-content/uploads/12th-world-Digital-Pathology-AI-UCGCongress.png
ORGANIZER;CN="CONFERENCESERIES":MAILTO:kevinluke442@gmail.com
END:VEVENT
END:VCALENDAR