BEGIN:VCALENDAR
VERSION:2.0
PRODID:-//City of Hattiesburg - ECPv5.0.0//NONSGML v1.0//EN
CALSCALE:GREGORIAN
METHOD:PUBLISH
X-WR-CALNAME:City of Hattiesburg
X-ORIGINAL-URL:https://www.hattiesburgms.com
X-WR-CALDESC:Events for City of Hattiesburg
BEGIN:VTIMEZONE
TZID:America/Chicago
BEGIN:DAYLIGHT
TZOFFSETFROM:-0600
TZOFFSETTO:-0500
TZNAME:CDT
DTSTART:20230312T080000
END:DAYLIGHT
BEGIN:STANDARD
TZOFFSETFROM:-0500
TZOFFSETTO:-0600
TZNAME:CST
DTSTART:20231105T070000
END:STANDARD
END:VTIMEZONE
BEGIN:VEVENT
DTSTART;TZID=America/Chicago:20230321T193000
DTEND;TZID=America/Chicago:20230321T193000
DTSTAMP:20260422T131939
CREATED:20230303T212501Z
LAST-MODIFIED:20230303T212501Z
UID:28796-1679427000-1679427000@www.hattiesburgms.com
SUMMARY:Connoisseur's Series Presents the Lysander Piano Trio
DESCRIPTION:Connoisseur’s Series presents the Lysander Piano Trio. Itamar Zorman\, violin\, Michael Katz\, cello\, and Liza Stepanova\, piano\, have been praised by The Strad for their “incredible ensemble\, passionate playing\, articulate and imaginative ideas and wide palette of colors” and by The Washington Post for “an uncommon degree of heart-on-the-sleeve emotional frankness” and “vivid engagement carried by soaring\, ripely Romantic playing.” \n  \nThe School of Music appreciates the annual support of the Mr. and Mrs. James Simrall\, Jr. Arts Endowment. The Connoisseurs Series is a premiere event series representing each applied area (Brass\, Jazz\, Piano\, Voice\, and Woodwinds) with annual guest artist performances. These renowned performers augment the training our students regularly receive by the world-class faculty housed within the School of Music and add to the rich musical offerings presented annually to the Hattiesburg and regional community.  \n  \n
URL:https://www.hattiesburgms.com/event/connoisseurs-series-presents-the-lysander-piano-trio/
LOCATION:Marsh Auditorium at Southern Miss.\, 107 Southern Drive\, HATTIESBURG\, MS\, 39406\, United States
CATEGORIES:Arts,Campus Event at Southern Miss,Community Event,Concert
ATTACH;FMTTYPE=image/jpeg:https://www.hattiesburgms.com/wp-content/uploads/SOM-BIG-2021-223-18.jpg
ORGANIZER;CN="School%20of%20Music":MAILTO:mike.lopinto@usm.edu
END:VEVENT
END:VCALENDAR