BEGIN:VCALENDAR
VERSION:2.0
PRODID:-//City of Hattiesburg - ECPv5.0.0//NONSGML v1.0//EN
CALSCALE:GREGORIAN
METHOD:PUBLISH
X-WR-CALNAME:City of Hattiesburg
X-ORIGINAL-URL:https://www.hattiesburgms.com
X-WR-CALDESC:Events for City of Hattiesburg
BEGIN:VTIMEZONE
TZID:America/Chicago
BEGIN:DAYLIGHT
TZOFFSETFROM:-0600
TZOFFSETTO:-0500
TZNAME:CDT
DTSTART:20190310T080000
END:DAYLIGHT
BEGIN:STANDARD
TZOFFSETFROM:-0500
TZOFFSETTO:-0600
TZNAME:CST
DTSTART:20191103T070000
END:STANDARD
END:VTIMEZONE
BEGIN:VEVENT
DTSTART;TZID=America/Chicago:20191005T160000
DTEND;TZID=America/Chicago:20191006T010000
DTSTAMP:20260422T035356
CREATED:20191001T213111Z
LAST-MODIFIED:20191001T213111Z
UID:20266-1570291200-1570323600@www.hattiesburgms.com
SUMMARY:Colludium Oktoberfest
DESCRIPTION:It’s the last weekend of Oktoberfest and Colludium is bringing up the rear! Come celebrate with us! Resident food truck\, Art of Roux\, will be serving up the traditional Bavarian fare as well as a southern play on brats. We’ll have $30 1 Liter steins with UNLIMITED fills of Yazoo Hefeweizen! German beer cocktails and mocktails will be available. Oompah music will fill the air as our guests race through our lawn with steins\, struggle to hoist a full liter and do The Chicken Dance. And don’t forget to dress like the Bavarians for 10% off! \n
URL:https://www.hattiesburgms.com/event/colludium-oktoberfest/
LOCATION:Colludium Brewing Company\, 2108 West 4th\, Hattiesburg\, MS\, 39401\, United States
CATEGORIES:Festival
ATTACH;FMTTYPE=image/jpeg:https://www.hattiesburgms.com/wp-content/uploads/colludium_oktoberfest.jpg
END:VEVENT
END:VCALENDAR