BEGIN:VCALENDAR
VERSION:2.0
PRODID:-//City of Hattiesburg - ECPv5.0.0//NONSGML v1.0//EN
CALSCALE:GREGORIAN
METHOD:PUBLISH
X-WR-CALNAME:City of Hattiesburg
X-ORIGINAL-URL:https://www.hattiesburgms.com
X-WR-CALDESC:Events for City of Hattiesburg
BEGIN:VTIMEZONE
TZID:America/Chicago
BEGIN:DAYLIGHT
TZOFFSETFROM:-0600
TZOFFSETTO:-0500
TZNAME:CDT
DTSTART:20190310T080000
END:DAYLIGHT
BEGIN:STANDARD
TZOFFSETFROM:-0500
TZOFFSETTO:-0600
TZNAME:CST
DTSTART:20191103T070000
END:STANDARD
END:VTIMEZONE
BEGIN:VEVENT
DTSTART;TZID=America/Chicago:20190420T100000
DTEND;TZID=America/Chicago:20190420T120000
DTSTAMP:20260421T222831
CREATED:20190328T164231Z
LAST-MODIFIED:20190328T164319Z
UID:18985-1555754400-1555761600@www.hattiesburgms.com
SUMMARY:Easter Fun Day
DESCRIPTION:Easter Fun Day will feature a one-of-a-kind indoor Easter egg hunt along with sack lunches for children and parents\, toys and games! \nEaster Fun Day is a free event and open to the public to be held Saturday\, April 20\, 2019 at 10 a.m. on the campus of Christian Services\, 301 East 2nd St\, Hattiesburg\, MS 39401. \nAll ages are welcome; however\, children 12 and under must be accompanied by parents. \n
URL:https://www.hattiesburgms.com/event/christian-services-easter-fun-day/
LOCATION:Christian Services\, 301 East 2nd St\, Hattiesburg\, MS\, 39401\, United States
CATEGORIES:Community Event
ATTACH;FMTTYPE=image/jpeg:https://www.hattiesburgms.com/wp-content/uploads/EFD-2019.jpg
ORGANIZER;CN="Christian%20Services":MAILTO:volunteer.christianservices@gmail.com
END:VEVENT
END:VCALENDAR