BEGIN:VCALENDAR
VERSION:2.0
PRODID:-//City of Hattiesburg - ECPv5.0.0//NONSGML v1.0//EN
CALSCALE:GREGORIAN
METHOD:PUBLISH
X-WR-CALNAME:City of Hattiesburg
X-ORIGINAL-URL:https://www.hattiesburgms.com
X-WR-CALDESC:Events for City of Hattiesburg
BEGIN:VTIMEZONE
TZID:America/Chicago
BEGIN:DAYLIGHT
TZOFFSETFROM:-0600
TZOFFSETTO:-0500
TZNAME:CDT
DTSTART:20190310T080000
END:DAYLIGHT
BEGIN:STANDARD
TZOFFSETFROM:-0500
TZOFFSETTO:-0600
TZNAME:CST
DTSTART:20191103T070000
END:STANDARD
END:VTIMEZONE
BEGIN:VEVENT
DTSTART;TZID=America/Chicago:20190413T100000
DTEND;TZID=America/Chicago:20190413T140000
DTSTAMP:20260422T062602
CREATED:20190320T185543Z
LAST-MODIFIED:20190320T185749Z
UID:18927-1555149600-1555164000@www.hattiesburgms.com
SUMMARY:Beginner Beekeeping Class
DESCRIPTION:This class will give you all the knowledge necessary to start beekeeping successfully. The class will begin at 10 a.m. and teach you how to begin\, what is necessary and what to do. The class begins with an open forum classroom-like atmosphere and hands-on demonstrations. Later we will be doing outdoor open hive inspections for some hands-on experience (weather permitting). Join one of the fastest growing and important hobbies out there! \n
URL:https://www.hattiesburgms.com/event/beginner-beekeeping-class/
LOCATION:Bee Gold Honey\, 3856 US Highway 49\, Hattiesburg\, MS\, 39401\, United States
CATEGORIES:Education
ATTACH;FMTTYPE=image/jpeg:https://www.hattiesburgms.com/wp-content/uploads/8DEBE448-E2CE-4A12-AB72-DABD7A49F72B.jpeg
END:VEVENT
END:VCALENDAR