BEGIN:VCALENDAR
VERSION:2.0
PRODID:-//City of Hattiesburg - ECPv5.0.0//NONSGML v1.0//EN
CALSCALE:GREGORIAN
METHOD:PUBLISH
X-WR-CALNAME:City of Hattiesburg
X-ORIGINAL-URL:https://www.hattiesburgms.com
X-WR-CALDESC:Events for City of Hattiesburg
BEGIN:VTIMEZONE
TZID:America/Chicago
BEGIN:DAYLIGHT
TZOFFSETFROM:-0600
TZOFFSETTO:-0500
TZNAME:CDT
DTSTART:20210314T080000
END:DAYLIGHT
BEGIN:STANDARD
TZOFFSETFROM:-0500
TZOFFSETTO:-0600
TZNAME:CST
DTSTART:20211107T070000
END:STANDARD
END:VTIMEZONE
BEGIN:VEVENT
DTSTART;TZID=America/Chicago:20210619T080000
DTEND;TZID=America/Chicago:20210619T170000
DTSTAMP:20260420T065614
CREATED:20210422T132416Z
LAST-MODIFIED:20210529T164714Z
UID:23750-1624089600-1624122000@www.hattiesburgms.com
SUMMARY:Beaus & Pearls Benefit Beauty Pageant
DESCRIPTION:Hello\, I am looking to rent an in door venue to host a benefit beauty pageant for the Universal Miss Mississippi contestants that will be attending Nationals in Orlando in July. Nationals is quite expensive and businesses are unable to sponsor due to suffering themselves so we have been doing lots of fundraising to raise funds. This is also an amazing opportunity for beautiful little girls and handsome little boys to make their debut on stage! I want to give them a great pageant experience. I have organized age divisions in time slots to keep numbers at limited compacity so venue will not be over crowded\, guests will be made to sign a contract to abide by city’s Covid-19 protocols while at the event and abide by my rules holding themselves with respect and sportsmanship or they will be asked to leave and disqualified before attending the event. I would need the venue for a full 12 hour day due to the time slots to keep the number of guests down I will not be overcrowding a space just to cut time to rent down! My main goal is safety I am a health care worker that gets tested every single week and has been vaccinated so I know how serious this issue is. However these little girls have been begging for a local pageant to be held and I want them to feel like the queens and princesses they are. \nCan you send me more information such as prices and what you offer? \n
URL:https://www.hattiesburgms.com/event/beaus-pearls-benefit-beauty-pageant/
LOCATION:Jackie Dole Sherrill Community Center\, 220 West Front Street\, Hattiesburg\, MS\, 39401\, United States
END:VEVENT
END:VCALENDAR