BEGIN:VCALENDAR
VERSION:2.0
PRODID:-//City of Hattiesburg - ECPv5.0.0//NONSGML v1.0//EN
CALSCALE:GREGORIAN
METHOD:PUBLISH
X-WR-CALNAME:City of Hattiesburg
X-ORIGINAL-URL:https://www.hattiesburgms.com
X-WR-CALDESC:Events for City of Hattiesburg
BEGIN:VTIMEZONE
TZID:America/Chicago
BEGIN:DAYLIGHT
TZOFFSETFROM:-0600
TZOFFSETTO:-0500
TZNAME:CDT
DTSTART:20250309T080000
END:DAYLIGHT
BEGIN:STANDARD
TZOFFSETFROM:-0500
TZOFFSETTO:-0600
TZNAME:CST
DTSTART:20251102T070000
END:STANDARD
END:VTIMEZONE
BEGIN:VEVENT
DTSTART;TZID=America/Chicago:20250809T080000
DTEND;TZID=America/Chicago:20250809T120000
DTSTAMP:20260424T035636
CREATED:20250707T182752Z
LAST-MODIFIED:20250707T182752Z
UID:33971-1754726400-1754740800@www.hattiesburgms.com
SUMMARY:Avenues Wide Yard Sale
DESCRIPTION:It’s time to clear out those closets and lighten your load! \nThe Avenues-Wide Yard Sale will kick off on Saturday\, August 19th at 8:00 AM. \n
URL:https://www.hattiesburgms.com/event/avenues-wide-yard-sale-2/
LOCATION:Hattiesburg\, MS\, United States
CATEGORIES:Community Event
ATTACH;FMTTYPE=image/jpeg:https://www.hattiesburgms.com/wp-content/uploads/516732332_1204332098403811_5236908984326490078_n.jpg
END:VEVENT
END:VCALENDAR