BEGIN:VCALENDAR
VERSION:2.0
PRODID:-//City of Hattiesburg - ECPv5.0.0//NONSGML v1.0//EN
CALSCALE:GREGORIAN
METHOD:PUBLISH
X-WR-CALNAME:City of Hattiesburg
X-ORIGINAL-URL:https://www.hattiesburgms.com
X-WR-CALDESC:Events for City of Hattiesburg
BEGIN:VTIMEZONE
TZID:America/Chicago
BEGIN:DAYLIGHT
TZOFFSETFROM:-0600
TZOFFSETTO:-0500
TZNAME:CDT
DTSTART:20190310T080000
END:DAYLIGHT
BEGIN:STANDARD
TZOFFSETFROM:-0500
TZOFFSETTO:-0600
TZNAME:CST
DTSTART:20191103T070000
END:STANDARD
END:VTIMEZONE
BEGIN:VEVENT
DTSTART;TZID=America/Chicago:20190413T130000
DTEND;TZID=America/Chicago:20190413T180000
DTSTAMP:20260422T061737
CREATED:20190402T214218Z
LAST-MODIFIED:20190402T214218Z
UID:19039-1555160400-1555178400@www.hattiesburgms.com
SUMMARY:Artisan Chocolate Pop Up Shop
DESCRIPTION:We invite you to visit our little studio and experience our new artisan chocolates. Hiram\, our in studio chocolatier\, will be available to answer your chocolate questions. His passion for the science of chocolate is evident as soon as he begins to speak. We will have individual chocolate pieces and multi-piece boxes for sale. Stock up for Easter! \nThe studio is not open to the public except during very special events like these. Though there is no need to pre-order for this event\, we may offer some items available for pre-order. (Keep checking our social media pages). Some items will not be offered for pre-order\, and will only be sold as a very limited time offering (first come\, first served). \n
URL:https://www.hattiesburgms.com/event/artisan-chocolate-pop-up-shop/
LOCATION:Twelve Five Cakery\, 5 Rivers Dr Ste 20\, Hattiesburg\, MS\, 39401\, United States
CATEGORIES:Arts,Community Event
ATTACH;FMTTYPE=image/jpeg:https://www.hattiesburgms.com/wp-content/uploads/55453705_10156478401848843_8619273797066817536_o.jpg
ORGANIZER;CN="Twelve%20Five%20Cakery":MAILTO:thetwelvefivecakery@gmail.com
END:VEVENT
END:VCALENDAR