BEGIN:VCALENDAR
VERSION:2.0
PRODID:-//City of Hattiesburg - ECPv5.0.0//NONSGML v1.0//EN
CALSCALE:GREGORIAN
METHOD:PUBLISH
X-WR-CALNAME:City of Hattiesburg
X-ORIGINAL-URL:https://www.hattiesburgms.com
X-WR-CALDESC:Events for City of Hattiesburg
BEGIN:VTIMEZONE
TZID:America/Chicago
BEGIN:DAYLIGHT
TZOFFSETFROM:-0600
TZOFFSETTO:-0500
TZNAME:CDT
DTSTART:20190310T080000
END:DAYLIGHT
BEGIN:STANDARD
TZOFFSETFROM:-0500
TZOFFSETTO:-0600
TZNAME:CST
DTSTART:20191103T070000
END:STANDARD
END:VTIMEZONE
BEGIN:VEVENT
DTSTART;TZID=America/Chicago:20191003T090000
DTEND;TZID=America/Chicago:20191005T170000
DTSTAMP:20260421T162110
CREATED:20191001T183629Z
LAST-MODIFIED:20191001T183629Z
UID:20185-1570093200-1570294800@www.hattiesburgms.com
SUMMARY:Anderson Downtown
DESCRIPTION:Anderson Downtown is open again this month\, and we have brand new merchandise waiting for you – all MARKED DOWN SIGNIFICANTLY. Deals that we obtain from our vendors and we pass those savings on to YOU! \nJust a few of the items:\n– Flooring (like vinyl plank\, tile\, hardwood\, laminate\, commercial-grade flooring like carpet tiles) \n– Furniture (sofas\, chairs\, ottomans\, dining tables\, beds\, love seats\, breakfast tables\, and over 45 brand new NORWALK pieces!) \n– Case goods (Side tables\, buffet tables\, nightstands\, armoires) \n– Accessories (lamps\, bedding\, pillowcases\, rugs\, items from Accents like picture frames\, candles\, gifts\, and more) \n
URL:https://www.hattiesburgms.com/event/anderson-downtown/
LOCATION:Anderson Downtown\, 515 W Scooba Street\, Hattiesburg\, MS\, 39401\, United States
CATEGORIES:Shopping
ATTACH;FMTTYPE=image/jpeg:https://www.hattiesburgms.com/wp-content/uploads/andersondowntown.jpg
END:VEVENT
END:VCALENDAR