BEGIN:VCALENDAR
VERSION:2.0
PRODID:-//City of Hattiesburg - ECPv5.0.0//NONSGML v1.0//EN
CALSCALE:GREGORIAN
METHOD:PUBLISH
X-WR-CALNAME:City of Hattiesburg
X-ORIGINAL-URL:https://www.hattiesburgms.com
X-WR-CALDESC:Events for City of Hattiesburg
BEGIN:VTIMEZONE
TZID:America/Chicago
BEGIN:DAYLIGHT
TZOFFSETFROM:-0600
TZOFFSETTO:-0500
TZNAME:CDT
DTSTART:20250309T080000
END:DAYLIGHT
BEGIN:STANDARD
TZOFFSETFROM:-0500
TZOFFSETTO:-0600
TZNAME:CST
DTSTART:20251102T070000
END:STANDARD
END:VTIMEZONE
BEGIN:VEVENT
DTSTART;TZID=America/Chicago:20250809T100000
DTEND;TZID=America/Chicago:20250809T113000
DTSTAMP:20260421T145201
CREATED:20250805T173753Z
LAST-MODIFIED:20250805T173753Z
UID:33940-1754733600-1754739000@www.hattiesburgms.com
SUMMARY:African American Female Health Initiative
DESCRIPTION:Free educational classes & workshop activities aimed to reduce Cardiovascular Health Risk. Classes will be interactive and fun. They include content on weight\, BMI\, healthy diet\, nutrition\, reading food labels\, grocery shopping\, exercise\, general education on blood pressure\, diabetes\, mental health and other health issues. \n
URL:https://www.hattiesburgms.com/event/african-american-female-health-initiative/2025-08-09/
LOCATION:1313 Country Club RD\, hattiesburg\, MS\, 39401\, United States
ATTACH;FMTTYPE=image/jpeg:https://www.hattiesburgms.com/wp-content/uploads/Red-and-White-Illustrative-International-Nurses-Day-Instagram-Post-5.jpeg
ORGANIZER;CN="Breakthrough%20Community%20Services":MAILTO:Tessie.w.reed2@gmail.com
END:VEVENT
END:VCALENDAR