BEGIN:VCALENDAR
VERSION:2.0
PRODID:-//City of Hattiesburg - ECPv5.0.0//NONSGML v1.0//EN
CALSCALE:GREGORIAN
METHOD:PUBLISH
X-WR-CALNAME:City of Hattiesburg
X-ORIGINAL-URL:https://www.hattiesburgms.com
X-WR-CALDESC:Events for City of Hattiesburg
BEGIN:VTIMEZONE
TZID:America/Chicago
BEGIN:DAYLIGHT
TZOFFSETFROM:-0600
TZOFFSETTO:-0500
TZNAME:CDT
DTSTART:20190310T080000
END:DAYLIGHT
BEGIN:STANDARD
TZOFFSETFROM:-0500
TZOFFSETTO:-0600
TZNAME:CST
DTSTART:20191103T070000
END:STANDARD
END:VTIMEZONE
BEGIN:VEVENT
DTSTART;TZID=America/Chicago:20190926T190000
DTEND;TZID=America/Chicago:20190926T210000
DTSTAMP:20260423T083644
CREATED:20190802T144652Z
LAST-MODIFIED:20190802T144652Z
UID:19673-1569524400-1569531600@www.hattiesburgms.com
SUMMARY:A PFTA Gala: USM Symphony Orchestra's 100th Anniversary
DESCRIPTION:Set amid the enchanting wonders of Morocco\, it promises an affair as memorable as the one between the characters in the legendary film. The most exciting fundraising event of the year in South Mississippi\, the Gala “Casablanca\,” will take place on Thursday\, September 26\, 2019 at 7 p.m. at the Hattiesburg-Bobby L. Chain Municipal Airport. The proceeds raised will bring vital support to the arts programs at Southern Miss. \n
URL:https://www.hattiesburgms.com/event/a-pfta-gala-usm-symphony-orchestras-100th-anniversary/
LOCATION:Hattiesburg\, MS\, United States
ATTACH;FMTTYPE=image/png:https://www.hattiesburgms.com/wp-content/uploads/PFTA-GALA.png
ORGANIZER;CN="Southern%20Miss%20Partners%20for%20the%20Arts":MAILTO:partners@usm.edu
END:VEVENT
END:VCALENDAR