BEGIN:VCALENDAR
VERSION:2.0
PRODID:-//City of Hattiesburg - ECPv5.0.0//NONSGML v1.0//EN
CALSCALE:GREGORIAN
METHOD:PUBLISH
X-WR-CALNAME:City of Hattiesburg
X-ORIGINAL-URL:https://www.hattiesburgms.com
X-WR-CALDESC:Events for City of Hattiesburg
BEGIN:VTIMEZONE
TZID:America/Chicago
BEGIN:DAYLIGHT
TZOFFSETFROM:-0600
TZOFFSETTO:-0500
TZNAME:CDT
DTSTART:20210314T080000
END:DAYLIGHT
BEGIN:STANDARD
TZOFFSETFROM:-0500
TZOFFSETTO:-0600
TZNAME:CST
DTSTART:20211107T070000
END:STANDARD
END:VTIMEZONE
BEGIN:VEVENT
DTSTART;TZID=America/Chicago:20210622T150000
DTEND;TZID=America/Chicago:20210622T170000
DTSTAMP:20260422T085334
CREATED:20210507T165421Z
LAST-MODIFIED:20210614T201910Z
UID:23836-1624374000-1624381200@www.hattiesburgms.com
SUMMARY:A Celebration of 50 years of Organ Music: Featuring Jeff McLelland\, organ
DESCRIPTION:Sponsored by Paul Andersen \nHattiesburg native Jeff McLelland performs a program of music he played and heard on the Holtkamp organ in Marsh Auditorium during his studies at USM. He continued his studies at The Eastman School of Music and The University of Alabama. He served as organist at Broad Street United Methodist Church (now Heritage UMC)\, Temple Baptist Church (now Hardy Street Baptist) and First Presbyterian Church He also spent 17 years teaching at William Carey College and Mississippi College. Since 2000\, he has been the Director of Music and Fine Arts at Independent Presbyterian Church in Birmingham\, Alabama where he serves as organist\, director of choral activities\, and administrator of the nationally prestigious November Organ Recital Series and annual Religious Arts Festival. \n  \n
URL:https://www.hattiesburgms.com/event/a-celebration-of-50-years-of-organ-music-featuring-jeff-mclelland-organ/
LOCATION:Marsh Auditorium at Southern Miss.\, 107 Southern Drive\, HATTIESBURG\, MS\, 39406\, United States
CATEGORIES:Concert
ORGANIZER;CN="Festival%20South":MAILTO:mike.lopinto@usm.edu
END:VEVENT
END:VCALENDAR